{"text_format":"1","workbook":"xlsx","n_sheets":3,"sheets":["CHARTE D'APPLICATION MYKE PRO","MYKE PRO APP CHART + Calculat  ","Calculator"],"not_rendered":{"charts":0,"images":4,"macros":1,"external_links":0,"defined_names":2,"comments":0,"pivot_tables":0},"unopened":[],"bounds":{"document_bytes":16777216,"sheet_cells":100000,"rows_first":2000,"rows_last":500,"rows_between":2000,"halvings":0,"cell_chars":16384,"cell_head_chars":4096},"cells_cut":0,"cells_raw":0,"read":"whole","date_system":"1900"}

{"sheet":"CHARTE D'APPLICATION MYKE PRO","index":0,"n_rows":82,"n_cols":9,"rows_kept":82,"cut":false,"hidden":false,"merged":[[1,7,1,9],[82,3,82,7],[4,3,4,7],[80,3,80,7],[79,4,79,7],[81,4,81,7]]}
[]
[]
[]
[]
[null,null,null,"CHARTE D'APPLICATION MYKE® PRO\n "]
[]
[null,null,null,"CONTENANT","TASSES DE","UNITÉS","QUANTITÉ","QUANTITÉS"]
[null,null,null,null,"MYKE PRO","PAR SAC","VÉGÉTAUX","TASSES"]
[null,null,null,"Multicellules (Plugs)",0.06,800,null,{"$f":"G9*E9","v":0}]
[null,null,null,"Pot 4-6\" (0,5-1,5L)",0.12,400,null,0]
[null,null,null,"# 1",0.25,192,null,0]
[null,null,null,"# 2",0.5,96,null,0]
[null,null,null,"# 3",0.75,64,null,0]
[null,null,null,"# 5",1,48,null,0]
[null,null,null,"# 7",1.25,38,null,0]
[]
[]
[]
[]
[]
[]
[]
[]
[]
[]
[]
[]
[]
[]
[null,null,null,"# 10",1.5,32,null,{"$f":"G30*E30","v":0}]
[null,null,null,"# 15",1.75,27,null,{"$f":"G31*E31","v":0}]
[null,null,null,"# 20",2,24,null,{"$f":"G32*E32","v":0}]
[null,null,null,"# 25",3,16,null,0]
[null,null,null,"# 30",4,12,null,0]
[]
[null,null,null,null,null,null,"TOTAL:",{"$f":"SUM(H9:H34)","v":0},"tasses"]
[]
[]
[]
[null,null,null,"CALIBRES","TASSES DE","UNITÉS","QUANTITÉ","QUANTITÉ"]
[null,null,null,null,"MYKE PRO","PAR SAC","VÉGÉTAUX","TASSES"]
[null,null,null,"1.0-1.5 po (25-40 mm)",2,24,null,{"$f":"G42*E42","v":0}]
[null,null,null,"1.6-2.0 po (41-50 mm)",3,16,null,0]
[null,null,null,"2.1-2.5 po (51-65 mm)",4,12,null,0]
[null,null,null,"2.6-3.0 po (66-75 mm)",5,10,null,0]
[null,null,null,"3.1-4.0 po (76-100 mm)",6,8,null,0]
[null,null,null,"4.1 po (101 mm) et plus",7.5,6,null,0]
[]
[null,null,null,null,null,null,"TOTAL:",{"$f":"SUM(H42:H47)","v":0},"tasses"]
[]
[]
[]
[null,null,null,"HAUTEUR","TASSES DE","UNITÉS","QUANTITÉ","QUANTITÉ"]
[null,null,null,null,"MYKE PRO","PAR SAC","VÉGÉTAUX","TASSES"]
[null,null,null,"2'",0.5,96,null,{"$f":"G55*E55","v":0}]
[null,null,null,"3'",1,48,null,0]
[null,null,null,"4'",1.75,27,null,0]
[null,null,null,"5'",2,24,null,0]
[null,null,null,"6'",3,16,null,0]
[null,null,null,"7'",3.5,14,null,0]
[null,null,null,"8'",4,12,null,0]
[null,null,null,"10'",5,10,null,0]
[null,null,null,"12'",6,8,null,0]
[null,null,null,"14'",7.5,6,null,0]
[]
[null,null,null,null,null,null,"TOTAL:",{"$f":"SUM(H55:H64)","v":0},"tasses"]
[]
[]
[]
[null,null,null,null,null,"TOTAL:",{"$f":"H66+H49+H36","v":0},"tasses"]
[null,null,null,null,null,null,"Remettre"]
[null,null,null,null,null,"TOTAL:",{"$f":"ROUNDUP($G$70/48,0)","v":0},"Grands sacs","12L"]
[]
[null,null,null,null,null,null,"OU"]
[]
[null,null,null,null,null,"TOTAL:",{"$f":"ROUNDUP(($G$70/6),0)","v":0},"Petits sacs","1.5L"]
[]
[]
[null,null,null,"INFORMATION DU CONTRAT"]
[null,null,null,"Nom du client :"]
[]
[null,null,null,"Numéro de contrat :"]

{"sheet":"MYKE PRO APP CHART + Calculat  ","index":1,"n_rows":92,"n_cols":9,"rows_kept":92,"cut":false,"hidden":false,"merged":[[79,4,79,7],[80,3,80,7],[81,4,81,7],[82,3,82,7],[1,7,1,9],[4,3,4,7]]}
[]
[]
[]
[]
[null,null,null,"MYKE PRO Landscape product\n APPLICATION CHART"]
[]
[null,null,null,"CONTAINER","MYKE PRO","UNITS ","QUANTITY","QUANTITY"]
[null,null,null,null,"CUPS EACH","PER BAG","PLANTS","CUPS"]
[null,null,null,"Plugs",0.06,800,{"$f":"+Calculator!B25","v":0},{"$f":"G9*E9","v":0}]
[null,null,null,"4-6\" pot (0,5-1,5L)",0.12,400,{"$f":"Calculator!C25","v":0},{"$f":"G10*E10","v":0}]
[null,null,null,"# 1",0.25,192,{"$f":"+Calculator!D25","v":0},0]
[null,null,null,"# 2",0.5,96,{"$f":"Calculator!E25","v":0},0]
[null,null,null,"# 3",0.75,64,{"$f":"Calculator!F25","v":0},0]
[null,null,null,"# 5",1,48,{"$f":"Calculator!G25","v":0},0]
[null,null,null,"# 7",1.25,38,{"$f":"Calculator!H25","v":0},0]
[]
[]
[]
[]
[]
[]
[]
[]
[]
[]
[]
[]
[]
[]
[null,null,null,"# 10",1.5,32,{"$f":"Calculator!I25","v":0},{"$f":"G30*E30","v":0}]
[null,null,null,"# 15",1.75,27,{"$f":"Calculator!J25","v":0},{"$f":"G31*E31","v":0}]
[null,null,null,"# 20",2,24,{"$f":"Calculator!J26","v":0},{"$f":"G32*E32","v":0}]
[null,null,null,"# 25",3,16,{"$f":"Calculator!J27","v":0},0]
[null,null,null,"# 30",4,12,{"$f":"Calculator!J28","v":0},0]
[]
[null,null,null,null,null,null,"TOTAL:",{"$f":"SUM(H9:H34)","v":0},"cups"]
[]
[]
[]
[null,null,null,"CALIPER","MYKE PRO","UNITS ","QUANTITY","QUANTITY"]
[null,null,null,null,"CUPS EACH","PER BAG","PLANTS","CUPS"]
[null,null,null,"1.0-1.5 in (25-40 mm)",2,24,{"$f":"Calculator!L25","v":0},{"$f":"G42*E42","v":0}]
[null,null,null,"1.6-2.0 in (41-50 mm)",3,16,{"$f":"Calculator!M25","v":0},0]
[null,null,null,"2.1-2.5 in (51-65 mm)",4,12,{"$f":"Calculator!N25","v":0},0]
[null,null,null,"2.6-3.0 in (66-75 mm)",5,10,{"$f":"Calculator!O25","v":0},0]
[null,null,null,"3.1-4.0 in (76-100 mm)",6,8,{"$f":"Calculator!P25","v":0},0]
[null,null,null,"4.1 in (101 mm) and more",7.5,6,{"$f":"Calculator!Q25","v":0},0]
[]
[null,null,null,null,null,null,"TOTAL:",{"$f":"SUM(H42:H47)","v":0},"cups"]
[]
[]
[]
[null,null,null,"HEIGHT","MYKE PRO","UNITS ","QUANTITY","QUANTITY"]
[null,null,null,null,"CUPS EACH","PER BAG","PLANTS","CUPS"]
[null,null,null,"2'",0.5,96,{"$f":"+Calculator!R25","v":0},{"$f":"G55*E55","v":0}]
[null,null,null,"3'",1,48,{"$f":"+Calculator!S25","v":0},{"$f":"G56*E56","v":0}]
[null,null,null,"4'",1.75,27,{"$f":"+Calculator!T25","v":0},0]
[null,null,null,"5'",2,24,{"$f":"+Calculator!U25","v":0},0]
[null,null,null,"6'",3,16,{"$f":"Calculator!V25","v":0},0]
[null,null,null,"7'",3.5,14,{"$f":"Calculator!W25","v":0},0]
[null,null,null,"8'",4,12,{"$f":"Calculator!X25","v":0},0]
[null,null,null,"10'",5,10,{"$f":"+Calculator!Y25","v":0},0]
[null,null,null,"12'",6,8,{"$f":"Calculator!Z25","v":0},0]
[null,null,null,"14'",7.5,6,{"$f":"Calculator!AA25","v":0},0]
[]
[null,null,null,null,null,null,"TOTAL:",{"$f":"SUM(H55:H64)","v":0},"cups"]
[]
[]
[]
[null,null,null,null,null,"TOTAL:",{"$f":"H66+H49+H36","v":0},"cups"]
[null,null,null,null,null,null,"Gives"]
[null,null,null,null,null,"TOTAL:",{"$f":"ROUNDUP($G$70/48,0)","v":0},"Large bags","12L or 11qt"]
[]
[null,null,null,null,null,null,"OR"]
[]
[null,null,null,null,null,"TOTAL:",{"$f":"ROUNDUP(($G$70/6),0)","v":0},"Small bags","1.5L or 1.4qt"]
[]
[]
[null,null,null,"CONTRACT INFORMATION"]
[null,null,null,"Customer name:"]
[]
[null,null,null,"Contract number:"]
[]
[]
[]
[]
[]
[]
[]
[]
[]
[null,null,null,null,null,20130917]

{"sheet":"Calculator","index":2,"n_rows":25,"n_cols":27,"rows_kept":25,"cut":false,"hidden":false,"merged":[[3,1,3,10],[3,11,3,16],[3,17,3,26]]}
[]
[]
[]
[null,"CONTAINER PLANTS",null,null,null,null,null,null,null,null,null,"CALIPER TREES",null,null,null,null,null,"HEIGHT"]
["PLANT","Plugs","4\" pot","#1","#2","#3","#5","#7","#10","#15","#20","1.5\"","2\"","2.5\"","3\"","4\"","4.5\"","2'","3'","4'","5'","6'","7'","8'","10'","12'","14'"]
[]
[]
[]
[]
[]
[]
[]
[]
[]
[]
[]
[]
[]
[]
[]
[]
[]
[]
[]
["TOTAL:",{"$f":"SUM(B6:B24)","v":0},0,0,0,0,0,0,0,0,0,0,0,0,0,0,0,0,0,0,0,0,0,0,0,0,0]